﻿BEGIN:VCALENDAR
VERSION:2.0
PRODID:-//IOIW@intellievent.de
METHOD:PUBLISH
BEGIN:VEVENT
CLASS:PUBLIC
CREATED:20260419T145034Z
DESCRIPTION:Uhrzeit: Studiozeiten
DTEND;VALUE=DATE:20260414
DTSTART;VALUE=DATE:20260413
DTSTAMP:20260419T145034Z
LAST-MODIFIED:20260419T145034Z
LOCATION:Grabenrainhalle Ahornstraße 125 71088 Holzgerlingen
SUMMARY;LANGUAGE=de:Gesundheitsstudio
RRULE:FREQ=WEEKLY;COUNT=12
END:VEVENT
END:VCALENDAR
